BEGIN:VCALENDAR
VERSION:2.0
PRODID:-//Tibilon Healthcare Foundation - ECPv6.9.0//NONSGML v1.0//EN
CALSCALE:GREGORIAN
METHOD:PUBLISH
X-ORIGINAL-URL:https://tibilonhealth.org
X-WR-CALDESC:Events for Tibilon Healthcare Foundation
REFRESH-INTERVAL;VALUE=DURATION:PT1H
X-Robots-Tag:noindex
X-PUBLISHED-TTL:PT1H
BEGIN:VTIMEZONE
TZID:Africa/Lagos
BEGIN:STANDARD
TZOFFSETFROM:+0100
TZOFFSETTO:+0100
TZNAME:WAT
DTSTART:20220101T000000
END:STANDARD
END:VTIMEZONE
BEGIN:VEVENT
DTSTART;VALUE=DATE:20220312
DTEND;VALUE=DATE:20220313
DTSTAMP:20260425T151554
CREATED:20220323T091903Z
LAST-MODIFIED:20220323T091903Z
UID:17824-1647043200-1647129599@tibilonhealth.org
SUMMARY:Hospital visit to Federal Medical Center Keffi
DESCRIPTION:We held a medical outreach program for the purpose of reaching out to indigent patients. We assisted financially to discharge some patients\, funds to access treatment\, support those who have been in the hospital for a while\, and patients who needed more to continue treatment. \nOur team included volunteers\, medical doctors\, pastoral and apostolic teams. In all\, we had about 50 beneficiaries and treated the volunteers to lunch at a nearby local restaurant in Keffi.
URL:https://tibilonhealth.org/event/hospital-visit-to-federal-medical-center-keffi-2/
LOCATION:Keffi General Hospital\, Keffi\, Nasarawa\, Nigeria
CATEGORIES:Donation,Helping,Outreach
ATTACH;FMTTYPE=image/jpeg:https://tibilonhealth.org/wp-content/uploads/2022/03/WhatsApp-Image-2022-03-17-at-12.59.45-PM.jpeg
END:VEVENT
END:VCALENDAR